BEGIN:VCALENDAR
VERSION:2.0
PRODID:-//St. Peter&#039;s Syriac Orthodox Cathedral, Philadelphia PA - ECPv6.15.20//NONSGML v1.0//EN
CALSCALE:GREGORIAN
METHOD:PUBLISH
X-ORIGINAL-URL:https://saintpeterscathedral.org
X-WR-CALDESC:Events for St. Peter&#039;s Syriac Orthodox Cathedral, Philadelphia PA
REFRESH-INTERVAL;VALUE=DURATION:PT1H
X-Robots-Tag:noindex
X-PUBLISHED-TTL:PT1H
BEGIN:VTIMEZONE
TZID:America/New_York
BEGIN:DAYLIGHT
TZOFFSETFROM:-0500
TZOFFSETTO:-0400
TZNAME:EDT
DTSTART:20220313T070000
END:DAYLIGHT
BEGIN:STANDARD
TZOFFSETFROM:-0400
TZOFFSETTO:-0500
TZNAME:EST
DTSTART:20221106T060000
END:STANDARD
BEGIN:DAYLIGHT
TZOFFSETFROM:-0500
TZOFFSETTO:-0400
TZNAME:EDT
DTSTART:20230312T070000
END:DAYLIGHT
BEGIN:STANDARD
TZOFFSETFROM:-0400
TZOFFSETTO:-0500
TZNAME:EST
DTSTART:20231105T060000
END:STANDARD
BEGIN:DAYLIGHT
TZOFFSETFROM:-0500
TZOFFSETTO:-0400
TZNAME:EDT
DTSTART:20240310T070000
END:DAYLIGHT
BEGIN:STANDARD
TZOFFSETFROM:-0400
TZOFFSETTO:-0500
TZNAME:EST
DTSTART:20241103T060000
END:STANDARD
BEGIN:DAYLIGHT
TZOFFSETFROM:-0500
TZOFFSETTO:-0400
TZNAME:EDT
DTSTART:20250309T070000
END:DAYLIGHT
BEGIN:STANDARD
TZOFFSETFROM:-0400
TZOFFSETTO:-0500
TZNAME:EST
DTSTART:20251102T060000
END:STANDARD
BEGIN:DAYLIGHT
TZOFFSETFROM:-0500
TZOFFSETTO:-0400
TZNAME:EDT
DTSTART:20260308T070000
END:DAYLIGHT
BEGIN:STANDARD
TZOFFSETFROM:-0400
TZOFFSETTO:-0500
TZNAME:EST
DTSTART:20261101T060000
END:STANDARD
END:VTIMEZONE
BEGIN:VTIMEZONE
TZID:UTC
BEGIN:STANDARD
TZOFFSETFROM:+0000
TZOFFSETTO:+0000
TZNAME:UTC
DTSTART:20220101T000000
END:STANDARD
END:VTIMEZONE
BEGIN:VEVENT
DTSTART;TZID=America/New_York:20250608T080000
DTEND;TZID=America/New_York:20250608T113000
DTSTAMP:20260423T165711
CREATED:20250419T011903Z
LAST-MODIFIED:20250419T011903Z
UID:35920-1749369600-1749382200@saintpeterscathedral.org
SUMMARY:Pentecost
DESCRIPTION:
URL:https://saintpeterscathedral.org/event/pentecost-3/
LOCATION:St. Peters Cathedral\, PA\, 9946 Haldeman Ave\, Philadelphia\, PA\, 19115\, United States
END:VEVENT
BEGIN:VEVENT
DTSTART;TZID=America/New_York:20250531T090000
DTEND;TZID=America/New_York:20250531T120000
DTSTAMP:20260423T165711
CREATED:20250419T011823Z
LAST-MODIFIED:20250419T011823Z
UID:35919-1748682000-1748692800@saintpeterscathedral.org
SUMMARY:Malankara Archdiocesan Extravaganza
DESCRIPTION:
URL:https://saintpeterscathedral.org/event/malankara-archdiocesan-extravaganza/
LOCATION:Malankara ArchDiocese Cathedral\, NJ\, 236 Old Tappan Rd\, Old Tappan\, NJ\, 07675\, United States
END:VEVENT
BEGIN:VEVENT
DTSTART;TZID=America/New_York:20250528T180000
DTEND;TZID=America/New_York:20250528T203000
DTSTAMP:20260423T165711
CREATED:20250419T011651Z
LAST-MODIFIED:20250419T011651Z
UID:35918-1748455200-1748464200@saintpeterscathedral.org
SUMMARY:Ascension
DESCRIPTION:
URL:https://saintpeterscathedral.org/event/ascension/
LOCATION:St. Peters Cathedral\, PA\, 9946 Haldeman Ave\, Philadelphia\, PA\, 19115\, United States
END:VEVENT
BEGIN:VEVENT
DTSTART;VALUE=DATE:20250518
DTEND;VALUE=DATE:20250519
DTSTAMP:20260423T165711
CREATED:20250419T011540Z
LAST-MODIFIED:20250419T011540Z
UID:35917-1747526400-1747612799@saintpeterscathedral.org
SUMMARY:Sunday School Teacher's Appreciation Day
DESCRIPTION:
URL:https://saintpeterscathedral.org/event/sunday-school-teachers-appreciation-day/
LOCATION:St. Peters Cathedral\, PA\, 9946 Haldeman Ave\, Philadelphia\, PA\, 19115\, United States
END:VEVENT
BEGIN:VEVENT
DTSTART;TZID=America/New_York:20250511T083000
DTEND;TZID=America/New_York:20250511T120000
DTSTAMP:20260423T165711
CREATED:20250419T011137Z
LAST-MODIFIED:20250419T011137Z
UID:35911-1746952200-1746964800@saintpeterscathedral.org
SUMMARY:Feast of St. George - Day 2
DESCRIPTION:
URL:https://saintpeterscathedral.org/event/feast-of-st-george-day-2/
LOCATION:St. Peters Cathedral\, PA\, 9946 Haldeman Ave\, Philadelphia\, PA\, 19115\, United States
END:VEVENT
BEGIN:VEVENT
DTSTART;VALUE=DATE:20250511
DTEND;VALUE=DATE:20250512
DTSTAMP:20260423T165711
CREATED:20250419T011228Z
LAST-MODIFIED:20250419T011228Z
UID:35912-1746921600-1747007999@saintpeterscathedral.org
SUMMARY:Mother's Day
DESCRIPTION:
URL:https://saintpeterscathedral.org/event/mothers-day/
LOCATION:St. Peters Cathedral\, PA\, 9946 Haldeman Ave\, Philadelphia\, PA\, 19115\, United States
END:VEVENT
BEGIN:VEVENT
DTSTART;TZID=America/New_York:20250510T180000
DTEND;TZID=America/New_York:20250510T193000
DTSTAMP:20260423T165711
CREATED:20250419T011023Z
LAST-MODIFIED:20250419T011023Z
UID:35910-1746900000-1746905400@saintpeterscathedral.org
SUMMARY:Feast of St. George - Day 1
DESCRIPTION:
URL:https://saintpeterscathedral.org/event/feast-of-st-george-day-1/
LOCATION:St. Peters Cathedral\, PA\, 9946 Haldeman Ave\, Philadelphia\, PA\, 19115\, United States
END:VEVENT
BEGIN:VEVENT
DTSTART;TZID=America/New_York:20250419T170000
DTEND;TZID=America/New_York:20250419T210000
DTSTAMP:20260423T165711
CREATED:20250419T010926Z
LAST-MODIFIED:20250419T011040Z
UID:35909-1745082000-1745096400@saintpeterscathedral.org
SUMMARY:Easter
DESCRIPTION:
URL:https://saintpeterscathedral.org/event/easter-2/
LOCATION:St. Peters Cathedral\, PA\, 9946 Haldeman Ave\, Philadelphia\, PA\, 19115\, United States
END:VEVENT
BEGIN:VEVENT
DTSTART;TZID=America/New_York:20250419T083000
DTEND;TZID=America/New_York:20250419T170000
DTSTAMP:20260423T165711
CREATED:20250419T010726Z
LAST-MODIFIED:20250419T010726Z
UID:35907-1745051400-1745082000@saintpeterscathedral.org
SUMMARY:Holy Saturday 2025
DESCRIPTION:
URL:https://saintpeterscathedral.org/event/holy-saturday-2025/
LOCATION:St. Peters Cathedral\, PA\, 9946 Haldeman Ave\, Philadelphia\, PA\, 19115\, United States
END:VEVENT
BEGIN:VEVENT
DTSTART;TZID=America/New_York:20241224T180000
DTEND;TZID=America/New_York:20241224T213000
DTSTAMP:20260423T165711
CREATED:20240307T190904Z
LAST-MODIFIED:20240307T190904Z
UID:35743-1735063200-1735075800@saintpeterscathedral.org
SUMMARY:Christmas 2024
DESCRIPTION:
URL:https://saintpeterscathedral.org/event/christmas-2024/
LOCATION:St. Peters Cathedral\, PA\, 9946 Haldeman Ave\, Philadelphia\, PA\, 19115\, United States
END:VEVENT
BEGIN:VEVENT
DTSTART;TZID=America/New_York:20240630T080000
DTEND;TZID=America/New_York:20240630T120000
DTSTAMP:20260423T165711
CREATED:20240307T190820Z
LAST-MODIFIED:20240307T190820Z
UID:35741-1719734400-1719748800@saintpeterscathedral.org
SUMMARY:Church Perunnal 2024
DESCRIPTION:
URL:https://saintpeterscathedral.org/event/church-perunnal-2024/
LOCATION:St. Peters Cathedral\, PA\, 9946 Haldeman Ave\, Philadelphia\, PA\, 19115\, United States
END:VEVENT
BEGIN:VEVENT
DTSTART;TZID=America/New_York:20240629T180000
DTEND;TZID=America/New_York:20240629T200000
DTSTAMP:20260423T165711
CREATED:20240307T190741Z
LAST-MODIFIED:20240307T190741Z
UID:35739-1719684000-1719691200@saintpeterscathedral.org
SUMMARY:Church Perunnal Eve 2024
DESCRIPTION:
URL:https://saintpeterscathedral.org/event/church-perunnal-eve-2024/
LOCATION:St. Peters Cathedral\, PA\, 9946 Haldeman Ave\, Philadelphia\, PA\, 19115\, United States
END:VEVENT
BEGIN:VEVENT
DTSTART;TZID=America/New_York:20240627T080000
DTEND;TZID=America/New_York:20240628T170000
DTSTAMP:20260423T165711
CREATED:20240307T190628Z
LAST-MODIFIED:20240307T190628Z
UID:35737-1719475200-1719594000@saintpeterscathedral.org
SUMMARY:VBS 2024
DESCRIPTION:
URL:https://saintpeterscathedral.org/event/vbs-2024/
LOCATION:St. Peters Cathedral\, PA\, 9946 Haldeman Ave\, Philadelphia\, PA\, 19115\, United States
END:VEVENT
BEGIN:VEVENT
DTSTART;TZID=America/New_York:20240622T083000
DTEND;TZID=America/New_York:20240622T170000
DTSTAMP:20260423T165711
CREATED:20240307T190547Z
LAST-MODIFIED:20240307T190547Z
UID:35735-1719045000-1719075600@saintpeterscathedral.org
SUMMARY:Picnic 2024
DESCRIPTION:
URL:https://saintpeterscathedral.org/event/picnic-2024/
LOCATION:Core Creek Park\, Park Pavilion #11\, Park Rd\, Langhorne\, PA\, 19047\, United States
END:VEVENT
BEGIN:VEVENT
DTSTART;TZID=America/New_York:20240330T170000
DTEND;TZID=America/New_York:20240330T210000
DTSTAMP:20260423T165711
CREATED:20240307T190428Z
LAST-MODIFIED:20240323T184445Z
UID:35733-1711818000-1711832400@saintpeterscathedral.org
SUMMARY:Easter 2024
DESCRIPTION:Evening Prayer: 5:00p ET\nKyomtho Service & Holy Qurbono: 7p ET
URL:https://saintpeterscathedral.org/event/easter-2024/
LOCATION:St. Peters Cathedral\, PA\, 9946 Haldeman Ave\, Philadelphia\, PA\, 19115\, United States
END:VEVENT
BEGIN:VEVENT
DTSTART;TZID=America/New_York:20240330T080000
DTEND;TZID=America/New_York:20240330T103000
DTSTAMP:20260423T165711
CREATED:20240307T190345Z
LAST-MODIFIED:20240323T184338Z
UID:35731-1711785600-1711794600@saintpeterscathedral.org
SUMMARY:Holy Saturday 2024
DESCRIPTION:Saturday of Good Tidings\nMorning Prayer: 8:00a ET | Holy Qurbono: 9:00a ET
URL:https://saintpeterscathedral.org/event/holy-saturday-2024/
LOCATION:St. Peters Cathedral\, PA\, 9946 Haldeman Ave\, Philadelphia\, PA\, 19115\, United States
END:VEVENT
BEGIN:VEVENT
DTSTART;TZID=America/New_York:20240329T080000
DTEND;TZID=America/New_York:20240329T150000
DTSTAMP:20260423T165711
CREATED:20240307T190306Z
LAST-MODIFIED:20240307T190306Z
UID:35729-1711699200-1711724400@saintpeterscathedral.org
SUMMARY:Good Friday 2024
DESCRIPTION:
URL:https://saintpeterscathedral.org/event/good-friday-2024/
LOCATION:St. Peters Cathedral\, PA\, 9946 Haldeman Ave\, Philadelphia\, PA\, 19115\, United States
END:VEVENT
BEGIN:VEVENT
DTSTART;TZID=America/New_York:20240328T180000
DTEND;TZID=America/New_York:20240328T190000
DTSTAMP:20260423T165711
CREATED:20240323T184125Z
LAST-MODIFIED:20240323T184125Z
UID:35795-1711648800-1711652400@saintpeterscathedral.org
SUMMARY:Evening Prayer
DESCRIPTION:
URL:https://saintpeterscathedral.org/event/evening-prayer-2/
LOCATION:PA
END:VEVENT
BEGIN:VEVENT
DTSTART;TZID=America/New_York:20240327T180000
DTEND;TZID=America/New_York:20240327T213000
DTSTAMP:20260423T165711
CREATED:20240307T190225Z
LAST-MODIFIED:20240323T184034Z
UID:35727-1711562400-1711575000@saintpeterscathedral.org
SUMMARY:Pes'ho 2024
DESCRIPTION:
URL:https://saintpeterscathedral.org/event/pesho-2024/
LOCATION:St. Peters Cathedral\, PA\, 9946 Haldeman Ave\, Philadelphia\, PA\, 19115\, United States
END:VEVENT
BEGIN:VEVENT
DTSTART;TZID=America/New_York:20240326T180000
DTEND;TZID=America/New_York:20240326T190000
DTSTAMP:20260423T165711
CREATED:20240323T183907Z
LAST-MODIFIED:20240323T183907Z
UID:35793-1711476000-1711479600@saintpeterscathedral.org
SUMMARY:Evening Prayer
DESCRIPTION:Confession will be available before and after prayer time.
URL:https://saintpeterscathedral.org/event/evening-prayer/
LOCATION:PA
END:VEVENT
BEGIN:VEVENT
DTSTART;TZID=America/New_York:20240325T180000
DTEND;TZID=America/New_York:20240325T190000
DTSTAMP:20260423T165711
CREATED:20240307T190136Z
LAST-MODIFIED:20240323T183635Z
UID:35725-1711389600-1711393200@saintpeterscathedral.org
SUMMARY:Evening Prayer
DESCRIPTION:
URL:https://saintpeterscathedral.org/event/evening-prayer-1/
LOCATION:St. Peters Cathedral\, PA\, 9946 Haldeman Ave\, Philadelphia\, PA\, 19115\, United States
END:VEVENT
BEGIN:VEVENT
DTSTART;TZID=America/New_York:20240324T180000
DTEND;TZID=America/New_York:20240324T190000
DTSTAMP:20260423T165711
CREATED:20240323T183456Z
LAST-MODIFIED:20240323T183456Z
UID:35790-1711303200-1711306800@saintpeterscathedral.org
SUMMARY:Vachanippu Perunnal 2024
DESCRIPTION:Evening Prayer | Feast of the Annunciation to the Virgin St. Mary.
URL:https://saintpeterscathedral.org/event/vachanippu-perunnal-2024-2/
LOCATION:St. Peters Cathedral\, PA\, 9946 Haldeman Ave\, Philadelphia\, PA\, 19115\, United States
END:VEVENT
BEGIN:VEVENT
DTSTART;TZID=America/New_York:20240324T080000
DTEND;TZID=America/New_York:20240324T170000
DTSTAMP:20260423T165711
CREATED:20240307T190019Z
LAST-MODIFIED:20240323T183037Z
UID:35722-1711267200-1711299600@saintpeterscathedral.org
SUMMARY:Hosana - Palm Sunday 2024
DESCRIPTION:Morning Prayer: 8:00a ET\nHosana Service & Holy Qurbono: 8:45a ET
URL:https://saintpeterscathedral.org/event/hosana-palm-sunday-2024/
LOCATION:St. Peters Cathedral\, PA\, 9946 Haldeman Ave\, Philadelphia\, PA\, 19115\, United States
END:VEVENT
BEGIN:VEVENT
DTSTART;TZID=America/New_York:20240315T180000
DTEND;TZID=America/New_York:20240316T210000
DTSTAMP:20260423T165711
CREATED:20240307T185713Z
LAST-MODIFIED:20240307T185713Z
UID:35719-1710525600-1710622800@saintpeterscathedral.org
SUMMARY:Jacobite Syrian Convention
DESCRIPTION:
URL:https://saintpeterscathedral.org/event/jacobite-syrian-convention/
LOCATION:PA
END:VEVENT
BEGIN:VEVENT
DTSTART;TZID=America/New_York:20240308T090000
DTEND;TZID=America/New_York:20240309T170000
DTSTAMP:20260423T165711
CREATED:20240307T185343Z
LAST-MODIFIED:20240307T185822Z
UID:35713-1709888400-1710003600@saintpeterscathedral.org
SUMMARY:ArchDiocese Lenten Retreat
DESCRIPTION:
URL:https://saintpeterscathedral.org/event/archdiocese-lenten-retreat/
LOCATION:Malankara ArchDiocese Cathedral\, NJ\, 236 Old Tappan Rd\, Old Tappan\, NJ\, 07675\, United States
END:VEVENT
BEGIN:VEVENT
DTSTART;VALUE=DATE:20231231
DTEND;VALUE=DATE:20240101
DTSTAMP:20260423T165711
CREATED:20230204T065536Z
LAST-MODIFIED:20230204T065536Z
UID:34468-1703980800-1704067199@saintpeterscathedral.org
SUMMARY:New Years Eve
DESCRIPTION:
URL:https://saintpeterscathedral.org/event/new-years-eve/
LOCATION:PA
END:VEVENT
BEGIN:VEVENT
DTSTART;VALUE=DATE:20231225
DTEND;VALUE=DATE:20231226
DTSTAMP:20260423T165711
CREATED:20230204T065515Z
LAST-MODIFIED:20230204T065515Z
UID:34466-1703462400-1703548799@saintpeterscathedral.org
SUMMARY:Christmas Day
DESCRIPTION:
URL:https://saintpeterscathedral.org/event/christmas-day/
LOCATION:PA
END:VEVENT
BEGIN:VEVENT
DTSTART;VALUE=DATE:20231215
DTEND;VALUE=DATE:20231226
DTSTAMP:20260423T165711
CREATED:20230204T065453Z
LAST-MODIFIED:20230204T065453Z
UID:34464-1702598400-1703548799@saintpeterscathedral.org
SUMMARY:Nativity Lent
DESCRIPTION:
URL:https://saintpeterscathedral.org/event/nativity-lent/
LOCATION:PA
END:VEVENT
BEGIN:VEVENT
DTSTART;VALUE=DATE:20231215
DTEND;VALUE=DATE:20231217
DTSTAMP:20260423T165711
CREATED:20230501T124616Z
LAST-MODIFIED:20230501T124616Z
UID:35438-1702598400-1702771199@saintpeterscathedral.org
SUMMARY:Church Christmas Carol (Phase 3)
DESCRIPTION:
URL:https://saintpeterscathedral.org/event/church-christmas-carol-phase-3/
LOCATION:PA
END:VEVENT
BEGIN:VEVENT
DTSTART;VALUE=DATE:20231208
DTEND;VALUE=DATE:20231209
DTSTAMP:20260423T165711
CREATED:20230501T124559Z
LAST-MODIFIED:20230501T124559Z
UID:35437-1701993600-1702079999@saintpeterscathedral.org
SUMMARY:Church Christmas Carol (Phase 2)
DESCRIPTION:
URL:https://saintpeterscathedral.org/event/church-christmas-carol-phase-2/
LOCATION:PA
END:VEVENT
END:VCALENDAR