BEGIN:VCALENDAR
VERSION:2.0
PRODID:-//St. Peter&#039;s Syriac Orthodox Cathedral, Philadelphia PA - ECPv6.15.20//NONSGML v1.0//EN
CALSCALE:GREGORIAN
METHOD:PUBLISH
X-ORIGINAL-URL:https://saintpeterscathedral.org
X-WR-CALDESC:Events for St. Peter&#039;s Syriac Orthodox Cathedral, Philadelphia PA
REFRESH-INTERVAL;VALUE=DURATION:PT1H
X-Robots-Tag:noindex
X-PUBLISHED-TTL:PT1H
BEGIN:VTIMEZONE
TZID:America/New_York
BEGIN:DAYLIGHT
TZOFFSETFROM:-0500
TZOFFSETTO:-0400
TZNAME:EDT
DTSTART:20220313T070000
END:DAYLIGHT
BEGIN:STANDARD
TZOFFSETFROM:-0400
TZOFFSETTO:-0500
TZNAME:EST
DTSTART:20221106T060000
END:STANDARD
BEGIN:DAYLIGHT
TZOFFSETFROM:-0500
TZOFFSETTO:-0400
TZNAME:EDT
DTSTART:20230312T070000
END:DAYLIGHT
BEGIN:STANDARD
TZOFFSETFROM:-0400
TZOFFSETTO:-0500
TZNAME:EST
DTSTART:20231105T060000
END:STANDARD
BEGIN:DAYLIGHT
TZOFFSETFROM:-0500
TZOFFSETTO:-0400
TZNAME:EDT
DTSTART:20240310T070000
END:DAYLIGHT
BEGIN:STANDARD
TZOFFSETFROM:-0400
TZOFFSETTO:-0500
TZNAME:EST
DTSTART:20241103T060000
END:STANDARD
BEGIN:DAYLIGHT
TZOFFSETFROM:-0500
TZOFFSETTO:-0400
TZNAME:EDT
DTSTART:20250309T070000
END:DAYLIGHT
BEGIN:STANDARD
TZOFFSETFROM:-0400
TZOFFSETTO:-0500
TZNAME:EST
DTSTART:20251102T060000
END:STANDARD
END:VTIMEZONE
BEGIN:VTIMEZONE
TZID:UTC
BEGIN:STANDARD
TZOFFSETFROM:+0000
TZOFFSETTO:+0000
TZNAME:UTC
DTSTART:20220101T000000
END:STANDARD
END:VTIMEZONE
BEGIN:VEVENT
DTSTART;TZID=America/New_York:20240308T090000
DTEND;TZID=America/New_York:20240309T170000
DTSTAMP:20260423T201916
CREATED:20240307T185343Z
LAST-MODIFIED:20240307T185822Z
UID:35713-1709888400-1710003600@saintpeterscathedral.org
SUMMARY:ArchDiocese Lenten Retreat
DESCRIPTION:
URL:https://saintpeterscathedral.org/event/archdiocese-lenten-retreat/
LOCATION:Malankara ArchDiocese Cathedral\, NJ\, 236 Old Tappan Rd\, Old Tappan\, NJ\, 07675\, United States
END:VEVENT
BEGIN:VEVENT
DTSTART;VALUE=DATE:20231231
DTEND;VALUE=DATE:20240101
DTSTAMP:20260423T201916
CREATED:20230204T065536Z
LAST-MODIFIED:20230204T065536Z
UID:34468-1703980800-1704067199@saintpeterscathedral.org
SUMMARY:New Years Eve
DESCRIPTION:
URL:https://saintpeterscathedral.org/event/new-years-eve/
LOCATION:NJ
END:VEVENT
BEGIN:VEVENT
DTSTART;VALUE=DATE:20231225
DTEND;VALUE=DATE:20231226
DTSTAMP:20260423T201916
CREATED:20230204T065515Z
LAST-MODIFIED:20230204T065515Z
UID:34466-1703462400-1703548799@saintpeterscathedral.org
SUMMARY:Christmas Day
DESCRIPTION:
URL:https://saintpeterscathedral.org/event/christmas-day/
LOCATION:NJ
END:VEVENT
BEGIN:VEVENT
DTSTART;VALUE=DATE:20231215
DTEND;VALUE=DATE:20231226
DTSTAMP:20260423T201916
CREATED:20230204T065453Z
LAST-MODIFIED:20230204T065453Z
UID:34464-1702598400-1703548799@saintpeterscathedral.org
SUMMARY:Nativity Lent
DESCRIPTION:
URL:https://saintpeterscathedral.org/event/nativity-lent/
LOCATION:NJ
END:VEVENT
BEGIN:VEVENT
DTSTART;VALUE=DATE:20231215
DTEND;VALUE=DATE:20231217
DTSTAMP:20260423T201916
CREATED:20230501T124616Z
LAST-MODIFIED:20230501T124616Z
UID:35438-1702598400-1702771199@saintpeterscathedral.org
SUMMARY:Church Christmas Carol (Phase 3)
DESCRIPTION:
URL:https://saintpeterscathedral.org/event/church-christmas-carol-phase-3/
LOCATION:NJ
END:VEVENT
BEGIN:VEVENT
DTSTART;VALUE=DATE:20231208
DTEND;VALUE=DATE:20231209
DTSTAMP:20260423T201916
CREATED:20230501T124559Z
LAST-MODIFIED:20230501T124559Z
UID:35437-1701993600-1702079999@saintpeterscathedral.org
SUMMARY:Church Christmas Carol (Phase 2)
DESCRIPTION:
URL:https://saintpeterscathedral.org/event/church-christmas-carol-phase-2/
LOCATION:NJ
END:VEVENT
BEGIN:VEVENT
DTSTART;VALUE=DATE:20231203
DTEND;VALUE=DATE:20231204
DTSTAMP:20260423T201916
CREATED:20230501T124436Z
LAST-MODIFIED:20230501T124436Z
UID:35433-1701561600-1701647999@saintpeterscathedral.org
SUMMARY:Annual General Body Meeting
DESCRIPTION:
URL:https://saintpeterscathedral.org/event/annual-general-body-meeting/
LOCATION:NJ
END:VEVENT
BEGIN:VEVENT
DTSTART;VALUE=DATE:20231201
DTEND;VALUE=DATE:20231203
DTSTAMP:20260423T201916
CREATED:20230501T124521Z
LAST-MODIFIED:20230501T124521Z
UID:35434-1701388800-1701561599@saintpeterscathedral.org
SUMMARY:Church Christmas Carol (Phase 1)
DESCRIPTION:
URL:https://saintpeterscathedral.org/event/church-christmas-carol-phase-1/
LOCATION:NJ
END:VEVENT
BEGIN:VEVENT
DTSTART;VALUE=DATE:20231119
DTEND;VALUE=DATE:20231120
DTSTAMP:20260423T201916
CREATED:20230501T124407Z
LAST-MODIFIED:20230501T124407Z
UID:35429-1700352000-1700438399@saintpeterscathedral.org
SUMMARY:Thanksgiving Day Observed
DESCRIPTION:
URL:https://saintpeterscathedral.org/event/thanksgiving-day-observed/
LOCATION:NJ
END:VEVENT
BEGIN:VEVENT
DTSTART;VALUE=DATE:20231112
DTEND;VALUE=DATE:20231113
DTSTAMP:20260423T201916
CREATED:20230204T065422Z
LAST-MODIFIED:20230204T065422Z
UID:34462-1699747200-1699833599@saintpeterscathedral.org
SUMMARY:Hudos E'tho
DESCRIPTION:Dedication of Church
URL:https://saintpeterscathedral.org/event/hudos-etho/
LOCATION:NJ
END:VEVENT
BEGIN:VEVENT
DTSTART;VALUE=DATE:20231105
DTEND;VALUE=DATE:20231106
DTSTAMP:20260423T201916
CREATED:20230204T065349Z
LAST-MODIFIED:20230204T065349Z
UID:34460-1699142400-1699228799@saintpeterscathedral.org
SUMMARY:Kudosh E'tho
DESCRIPTION:Sanctification of Church
URL:https://saintpeterscathedral.org/event/kudosh-etho/
LOCATION:NJ
END:VEVENT
BEGIN:VEVENT
DTSTART;VALUE=DATE:20231102
DTEND;VALUE=DATE:20231103
DTSTAMP:20260423T201916
CREATED:20230204T065302Z
LAST-MODIFIED:20230204T065302Z
UID:34458-1698883200-1698969599@saintpeterscathedral.org
SUMMARY:St. Gregorios - Parumala Perunnal
DESCRIPTION:
URL:https://saintpeterscathedral.org/event/st-gregorios-parumala-perunnal/
LOCATION:NJ
END:VEVENT
BEGIN:VEVENT
DTSTART;VALUE=DATE:20231014
DTEND;VALUE=DATE:20231015
DTSTAMP:20260423T201916
CREATED:20230501T124333Z
LAST-MODIFIED:20230501T124333Z
UID:35428-1697241600-1697327999@saintpeterscathedral.org
SUMMARY:Church Family Night
DESCRIPTION:
URL:https://saintpeterscathedral.org/event/church-family-night/
LOCATION:NJ
END:VEVENT
BEGIN:VEVENT
DTSTART;VALUE=DATE:20231003
DTEND;VALUE=DATE:20231004
DTSTAMP:20260423T201916
CREATED:20230204T065213Z
LAST-MODIFIED:20230204T065213Z
UID:34456-1696291200-1696377599@saintpeterscathedral.org
SUMMARY:St. Baselios Yeldho Perunnal
DESCRIPTION:
URL:https://saintpeterscathedral.org/event/st-baselios-yeldho-perunnal/
LOCATION:NJ
END:VEVENT
BEGIN:VEVENT
DTSTART;VALUE=DATE:20230914
DTEND;VALUE=DATE:20230915
DTSTAMP:20260423T201916
CREATED:20230204T065121Z
LAST-MODIFIED:20230204T065121Z
UID:34454-1694649600-1694735999@saintpeterscathedral.org
SUMMARY:Feast of Sleebo
DESCRIPTION:
URL:https://saintpeterscathedral.org/event/feast-of-sleebo/
LOCATION:NJ
END:VEVENT
BEGIN:VEVENT
DTSTART;VALUE=DATE:20230903
DTEND;VALUE=DATE:20230911
DTSTAMP:20260423T201916
CREATED:20230501T124231Z
LAST-MODIFIED:20230501T124231Z
UID:35427-1693699200-1694390399@saintpeterscathedral.org
SUMMARY:8-Day Lent
DESCRIPTION:
URL:https://saintpeterscathedral.org/event/8-day-lent/
LOCATION:NJ
END:VEVENT
BEGIN:VEVENT
DTSTART;VALUE=DATE:20230810
DTEND;VALUE=DATE:20230816
DTSTAMP:20260423T201916
CREATED:20230204T065028Z
LAST-MODIFIED:20230204T065028Z
UID:34452-1691625600-1692143999@saintpeterscathedral.org
SUMMARY:Shunoyo Lent
DESCRIPTION:
URL:https://saintpeterscathedral.org/event/shunoyo-lent/
LOCATION:NJ
END:VEVENT
BEGIN:VEVENT
DTSTART;VALUE=DATE:20230806
DTEND;VALUE=DATE:20230807
DTSTAMP:20260423T201916
CREATED:20230501T124003Z
LAST-MODIFIED:20230501T124003Z
UID:35425-1691280000-1691366399@saintpeterscathedral.org
SUMMARY:Transfiguration (Koodara Perunnal)
DESCRIPTION:
URL:https://saintpeterscathedral.org/event/transfiguration-koodara-perunnal/
LOCATION:NJ
END:VEVENT
BEGIN:VEVENT
DTSTART;VALUE=DATE:20230723
DTEND;VALUE=DATE:20230724
DTSTAMP:20260423T201916
CREATED:20230501T123856Z
LAST-MODIFIED:20230501T123856Z
UID:35420-1690070400-1690156799@saintpeterscathedral.org
SUMMARY:Bi-Annual General Body
DESCRIPTION:
URL:https://saintpeterscathedral.org/event/bi-annual-general-body/
LOCATION:NJ
END:VEVENT
BEGIN:VEVENT
DTSTART;VALUE=DATE:20230712
DTEND;VALUE=DATE:20230716
DTSTAMP:20260423T201916
CREATED:20230501T123926Z
LAST-MODIFIED:20230501T123926Z
UID:35422-1689120000-1689465599@saintpeterscathedral.org
SUMMARY:Family Conference
DESCRIPTION:
URL:https://saintpeterscathedral.org/event/family-conference/
LOCATION:NJ
END:VEVENT
BEGIN:VEVENT
DTSTART;VALUE=DATE:20230712
DTEND;VALUE=DATE:20230716
DTSTAMP:20260423T201916
CREATED:20230204T064952Z
LAST-MODIFIED:20230204T064952Z
UID:34449-1689120000-1689465599@saintpeterscathedral.org
SUMMARY:Annual Youth and Family Conference - Lancaster\, PA
DESCRIPTION:
URL:https://saintpeterscathedral.org/event/annual-youth-and-family-conference-lancaster-pa/
LOCATION:Lancaster Host LLC dba Wyndham Resort & Convention Center\, 2300 Lincoln Highway East\, Lancaster\, PA\, 17602\, United States
END:VEVENT
BEGIN:VEVENT
DTSTART;VALUE=DATE:20230701
DTEND;VALUE=DATE:20230703
DTSTAMP:20260423T201916
CREATED:20230501T123819Z
LAST-MODIFIED:20230501T123819Z
UID:35419-1688169600-1688342399@saintpeterscathedral.org
SUMMARY:Church Perunnal
DESCRIPTION:
URL:https://saintpeterscathedral.org/event/church-perunnal/
LOCATION:NJ
END:VEVENT
BEGIN:VEVENT
DTSTART;VALUE=DATE:20230629
DTEND;VALUE=DATE:20230701
DTSTAMP:20260423T201916
CREATED:20230501T123749Z
LAST-MODIFIED:20230501T123749Z
UID:35415-1687996800-1688169599@saintpeterscathedral.org
SUMMARY:VBS
DESCRIPTION:
URL:https://saintpeterscathedral.org/event/vbs/
LOCATION:NJ
END:VEVENT
BEGIN:VEVENT
DTSTART;TZID=America/New_York:20230624T090000
DTEND;TZID=America/New_York:20230624T160000
DTSTAMP:20260423T201916
CREATED:20230501T123703Z
LAST-MODIFIED:20230619T000509Z
UID:35413-1687597200-1687622400@saintpeterscathedral.org
SUMMARY:Church Picnic - June 2023
DESCRIPTION:
URL:https://saintpeterscathedral.org/event/church-picnic-june-2023/
LOCATION:Core Creek Park\, Park Pavilion #11\, Park Rd\, Langhorne\, PA\, 19047\, United States
END:VEVENT
BEGIN:VEVENT
DTSTART;VALUE=DATE:20230624
DTEND;VALUE=DATE:20230629
DTSTAMP:20260423T201916
CREATED:20230501T123730Z
LAST-MODIFIED:20230501T123730Z
UID:35414-1687564800-1687996799@saintpeterscathedral.org
SUMMARY:Apostles' Lent
DESCRIPTION:
URL:https://saintpeterscathedral.org/event/apostles-lent/
LOCATION:NJ
END:VEVENT
BEGIN:VEVENT
DTSTART;VALUE=DATE:20230528
DTEND;VALUE=DATE:20230529
DTSTAMP:20260423T201916
CREATED:20230501T123634Z
LAST-MODIFIED:20230501T123634Z
UID:35411-1685232000-1685318399@saintpeterscathedral.org
SUMMARY:Pentecost
DESCRIPTION:
URL:https://saintpeterscathedral.org/event/pentecost-2/
LOCATION:NJ
END:VEVENT
BEGIN:VEVENT
DTSTART;VALUE=DATE:20230517
DTEND;VALUE=DATE:20230518
DTSTAMP:20260423T201916
CREATED:20230501T123605Z
LAST-MODIFIED:20230501T123605Z
UID:35409-1684281600-1684367999@saintpeterscathedral.org
SUMMARY:Ascention (May 18)
DESCRIPTION:
URL:https://saintpeterscathedral.org/event/ascention-may-18/
LOCATION:NJ
END:VEVENT
BEGIN:VEVENT
DTSTART;VALUE=DATE:20230409
DTEND;VALUE=DATE:20230410
DTSTAMP:20260423T201916
CREATED:20230204T064505Z
LAST-MODIFIED:20230204T064726Z
UID:34443-1680998400-1681084799@saintpeterscathedral.org
SUMMARY:Easter
DESCRIPTION:
URL:https://saintpeterscathedral.org/event/easter/
LOCATION:NJ
END:VEVENT
BEGIN:VEVENT
DTSTART;VALUE=DATE:20230408
DTEND;VALUE=DATE:20230409
DTSTAMP:20260423T201916
CREATED:20230204T064446Z
LAST-MODIFIED:20230204T064446Z
UID:34441-1680912000-1680998399@saintpeterscathedral.org
SUMMARY:Saturday of Good Tidings
DESCRIPTION:
URL:https://saintpeterscathedral.org/event/saturday-of-good-tidings/
LOCATION:NJ
END:VEVENT
BEGIN:VEVENT
DTSTART;VALUE=DATE:20230407
DTEND;VALUE=DATE:20230408
DTSTAMP:20260423T201916
CREATED:20230204T064422Z
LAST-MODIFIED:20230204T064422Z
UID:34439-1680825600-1680911999@saintpeterscathedral.org
SUMMARY:Good Friday
DESCRIPTION:
URL:https://saintpeterscathedral.org/event/good-friday/
LOCATION:NJ
END:VEVENT
END:VCALENDAR